BEGIN:VCALENDAR
PRODID:-//eluceo/ical//2.0/EN
VERSION:2.0
CALSCALE:GREGORIAN
BEGIN:VEVENT
UID:951d3c54ad807b312d9659f50634c500
DTSTAMP:20260422T022501Z
SUMMARY:TS  Shir Joy Shabbat
DESCRIPTION:Jewish Federation of Greater Naples\nCommunity Calendar\nhttps:
 //jewishnaples.org/calendar/calendar16076\n\nTS  Shir Joy Shabbat
DTSTART;TZID=America/New_York:20150807T183000
DTEND;TZID=America/New_York:20150807T183000
END:VEVENT
END:VCALENDAR
