BEGIN:VCALENDAR
PRODID:-//eluceo/ical//2.0/EN
VERSION:2.0
CALSCALE:GREGORIAN
BEGIN:VEVENT
UID:a65d98716d45894bd8b0f87b2e9eb163
DTSTAMP:20260419T220816Z
SUMMARY:BT  Rabbi's Study Course
DESCRIPTION:Jewish Federation of Greater Naples\nCommunity Calendar\nhttps:
 //jewishnaples.org/calendar/calendar16070\n\nBT  Rabbi's Study Course
DTSTART;TZID=America/New_York:20150804T160000
DTEND;TZID=America/New_York:20150804T160000
END:VEVENT
END:VCALENDAR
