BEGIN:VCALENDAR
PRODID:-//eluceo/ical//2.0/EN
VERSION:2.0
CALSCALE:GREGORIAN
BEGIN:VEVENT
UID:461e3fe6ba66099cd28adf597ec14417
DTSTAMP:20260423T064439Z
SUMMARY:TS Services
DESCRIPTION:Jewish Federation of Greater Naples\nCommunity Calendar\nhttps:
 //jewishnaples.org/calendar/calendar16065\n\nTS Services
DTSTART;TZID=America/New_York:20150801T100000
DTEND;TZID=America/New_York:20150801T100000
END:VEVENT
END:VCALENDAR
