BEGIN:VCALENDAR
PRODID:-//eluceo/ical//2.0/EN
VERSION:2.0
CALSCALE:GREGORIAN
BEGIN:VEVENT
UID:5025efc849cd5611a05414f21a4464d1
DTSTAMP:20260424T061539Z
SUMMARY:TS Torah Talk
DESCRIPTION:Jewish Federation of Greater Naples\nCommunity Calendar\nhttps:
 //jewishnaples.org/calendar/calendar16062\n\nTS Torah Talk
DTSTART;TZID=America/New_York:20150801T083000
DTEND;TZID=America/New_York:20150801T083000
END:VEVENT
END:VCALENDAR
