BEGIN:VCALENDAR
PRODID:-//eluceo/ical//2.0/EN
VERSION:2.0
CALSCALE:GREGORIAN
BEGIN:VEVENT
UID:e287bcc60b445c3b2989ea7fc839477d
DTSTAMP:20260423T061713Z
SUMMARY:HM GenShoah
DESCRIPTION:Jewish Federation of Greater Naples\nCommunity Calendar\nhttps:
 //jewishnaples.org/calendar/calendar160\n\nSpeaker\nHelene Gaillet de Neer
 gard
DTSTART;TZID=America/New_York:20150318T163000
DTEND;TZID=America/New_York:20150318T163000
END:VEVENT
END:VCALENDAR
