BEGIN:VCALENDAR
PRODID:-//eluceo/ical//2.0/EN
VERSION:2.0
CALSCALE:GREGORIAN
BEGIN:VEVENT
UID:7873771019f525b355d5ede94e4afb42
DTSTAMP:20260420T120556Z
SUMMARY:HM Board Mtg
DESCRIPTION:Jewish Federation of Greater Naples\nCommunity Calendar\nhttps:
 //jewishnaples.org/calendar/calendar154\n\n&nbsp
DTSTART;TZID=America/New_York:20141127T150000
DTEND;TZID=America/New_York:20141127T150000
END:VEVENT
END:VCALENDAR
