BEGIN:VCALENDAR
PRODID:-//eluceo/ical//2.0/EN
VERSION:2.0
CALSCALE:GREGORIAN
BEGIN:VEVENT
UID:cfe0055b18b562c524a4a49aebee7f03
DTSTAMP:20260424T021032Z
SUMMARY:HJH Board Mtg
DESCRIPTION:Jewish Federation of Greater Naples\nCommunity Calendar\nhttps:
 //jewishnaples.org/calendar/calendar145\n\n&nbsp
DTSTART;TZID=America/New_York:20150218T093000
DTEND;TZID=America/New_York:20150218T093000
END:VEVENT
END:VCALENDAR
