BEGIN:VCALENDAR
PRODID:-//eluceo/ical//2.0/EN
VERSION:2.0
CALSCALE:GREGORIAN
BEGIN:VEVENT
UID:3fb370b3cf881955398e9a8d79892c71
DTSTAMP:20260422T072205Z
SUMMARY:HJH Board Mtg
DESCRIPTION:Jewish Federation of Greater Naples\nCommunity Calendar\nhttps:
 //jewishnaples.org/calendar/calendar143\n\n&nbsp
DTSTART;TZID=America/New_York:20150415T093000
DTEND;TZID=America/New_York:20150415T093000
END:VEVENT
END:VCALENDAR
