BEGIN:VCALENDAR
PRODID:-//eluceo/ical//2.0/EN
VERSION:2.0
CALSCALE:GREGORIAN
BEGIN:VEVENT
UID:e8a0d794b4760a04154bbc46976e79ab
DTSTAMP:20260423T071905Z
SUMMARY:Fed Star Editorial Deadline
DESCRIPTION:Jewish Federation of Greater Naples\nCommunity Calendar\nhttps:
 //jewishnaples.org/calendar/calendar1394\n\n&nbsp
DTSTART;TZID=America/New_York:20150501T000000
DTEND;TZID=America/New_York:20150502T000000
END:VEVENT
END:VCALENDAR
