BEGIN:VCALENDAR
PRODID:-//eluceo/ical//2.0/EN
VERSION:2.0
CALSCALE:GREGORIAN
BEGIN:VEVENT
UID:e24d70837b96a81b587dca091b3efa11
DTSTAMP:20260421T014954Z
SUMMARY:Fed Star Editorial Deadline
DESCRIPTION:Jewish Federation of Greater Naples\nCommunity Calendar\nhttps:
 //jewishnaples.org/calendar/calendar1392\n\n&nbsp
DTSTART;TZID=America/New_York:20150301T000000
DTEND;TZID=America/New_York:20150302T000000
END:VEVENT
END:VCALENDAR
