BEGIN:VCALENDAR
PRODID:-//eluceo/ical//2.0/EN
VERSION:2.0
CALSCALE:GREGORIAN
BEGIN:VEVENT
UID:aa89e166f8c1e6a7388174421ffe1601
DTSTAMP:20260424T015357Z
SUMMARY:Fed Star Editorial Deadline
DESCRIPTION:Jewish Federation of Greater Naples\nCommunity Calendar\nhttps:
 //jewishnaples.org/calendar/calendar1388\n\n&nbsp
DTSTART;TZID=America/New_York:20141101T000000
DTEND;TZID=America/New_York:20141102T000000
END:VEVENT
END:VCALENDAR
