BEGIN:VCALENDAR
PRODID:-//eluceo/ical//2.0/EN
VERSION:2.0
CALSCALE:GREGORIAN
BEGIN:VEVENT
UID:1131813857d14dfac5d0cbfaea0d09ff
DTSTAMP:20260423T180047Z
SUMMARY:LABOR DAY
DESCRIPTION:Jewish Federation of Greater Naples\nCommunity Calendar\nhttps:
 //jewishnaples.org/calendar/calendar1381\n\n&nbsp
DTSTART;TZID=America/New_York:20140901T000000
DTEND;TZID=America/New_York:20140902T000000
END:VEVENT
END:VCALENDAR
