BEGIN:VCALENDAR
PRODID:-//eluceo/ical//2.0/EN
VERSION:2.0
CALSCALE:GREGORIAN
BEGIN:VEVENT
UID:3aa2264f7d67701d57fecf62a1f8f147
DTSTAMP:20260423T093429Z
SUMMARY:BT Board Mtg
DESCRIPTION:Jewish Federation of Greater Naples\nCommunity Calendar\nhttps:
 //jewishnaples.org/calendar/calendar1374\n\n&nbsp
DTSTART;TZID=America/New_York:20150219T160000
DTEND;TZID=America/New_York:20150219T160000
END:VEVENT
END:VCALENDAR
