BEGIN:VCALENDAR
PRODID:-//eluceo/ical//2.0/EN
VERSION:2.0
CALSCALE:GREGORIAN
BEGIN:VEVENT
UID:bb4db256ab2f8c0a7890487488f1007f
DTSTAMP:20260424T073425Z
SUMMARY:BT Board Mtg
DESCRIPTION:Jewish Federation of Greater Naples\nCommunity Calendar\nhttps:
 //jewishnaples.org/calendar/calendar1373\n\n&nbsp
DTSTART;TZID=America/New_York:20150115T160000
DTEND;TZID=America/New_York:20150115T160000
END:VEVENT
END:VCALENDAR
