BEGIN:VCALENDAR
PRODID:-//eluceo/ical//2.0/EN
VERSION:2.0
CALSCALE:GREGORIAN
BEGIN:VEVENT
UID:4f907c302fb9cca7994849fe940cd671
DTSTAMP:20260422T201022Z
SUMMARY:BT Services
DESCRIPTION:Jewish Federation of Greater Naples\nCommunity Calendar\nhttps:
 //jewishnaples.org/calendar/calendar1363\n\nBeth Tikvah
DTSTART;TZID=America/New_York:20150424T181500
DTEND;TZID=America/New_York:20150424T181500
END:VEVENT
END:VCALENDAR
