BEGIN:VCALENDAR
PRODID:-//eluceo/ical//2.0/EN
VERSION:2.0
CALSCALE:GREGORIAN
BEGIN:VEVENT
UID:edc0ced2321c422ff3b18d926d2c85ee
DTSTAMP:20260422T161802Z
SUMMARY:BT Service-Yizkor
DESCRIPTION:Jewish Federation of Greater Naples\nCommunity Calendar\nhttps:
 //jewishnaples.org/calendar/calendar1361\n\nBeth Tikvah
DTSTART;TZID=America/New_York:20150410T181500
DTEND;TZID=America/New_York:20150410T181500
END:VEVENT
END:VCALENDAR
