BEGIN:VCALENDAR
PRODID:-//eluceo/ical//2.0/EN
VERSION:2.0
CALSCALE:GREGORIAN
BEGIN:VEVENT
UID:e7efc00fa9377e4d9069ee4d0049b4e4
DTSTAMP:20260420T202734Z
SUMMARY:BT Seder/Service
DESCRIPTION:Jewish Federation of Greater Naples\nCommunity Calendar\nhttps:
 //jewishnaples.org/calendar/calendar1360\n\nErev Passover\nService
DTSTART;TZID=America/New_York:20150403T180000
DTEND;TZID=America/New_York:20150403T180000
END:VEVENT
END:VCALENDAR
