BEGIN:VCALENDAR
PRODID:-//eluceo/ical//2.0/EN
VERSION:2.0
CALSCALE:GREGORIAN
BEGIN:VEVENT
UID:30bdd830a3ec910d2603de9e04e1cbe4
DTSTAMP:20260422T085224Z
SUMMARY:BT Services
DESCRIPTION:Jewish Federation of Greater Naples\nCommunity Calendar\nhttps:
 //jewishnaples.org/calendar/calendar1359\n\nBeth Tikvah
DTSTART;TZID=America/New_York:20150327T181500
DTEND;TZID=America/New_York:20150327T181500
END:VEVENT
END:VCALENDAR
