BEGIN:VCALENDAR
PRODID:-//eluceo/ical//2.0/EN
VERSION:2.0
CALSCALE:GREGORIAN
BEGIN:VEVENT
UID:1404f757743257e04fcc9d916ca26c00
DTSTAMP:20260423T195416Z
SUMMARY:BT Services
DESCRIPTION:Jewish Federation of Greater Naples\nCommunity Calendar\nhttps:
 //jewishnaples.org/calendar/calendar1358\n\nBeth Tikvah
DTSTART;TZID=America/New_York:20150320T181500
DTEND;TZID=America/New_York:20150320T181500
END:VEVENT
END:VCALENDAR
