BEGIN:VCALENDAR
PRODID:-//eluceo/ical//2.0/EN
VERSION:2.0
CALSCALE:GREGORIAN
BEGIN:VEVENT
UID:c9042eb192dcf461cde840697e39cb3e
DTSTAMP:20260424T031005Z
SUMMARY:BT Services
DESCRIPTION:Jewish Federation of Greater Naples\nCommunity Calendar\nhttps:
 //jewishnaples.org/calendar/calendar1354\n\nBeth Tikvah
DTSTART;TZID=America/New_York:20150220T181500
DTEND;TZID=America/New_York:20150220T181500
END:VEVENT
END:VCALENDAR
