BEGIN:VCALENDAR
PRODID:-//eluceo/ical//2.0/EN
VERSION:2.0
CALSCALE:GREGORIAN
BEGIN:VEVENT
UID:2003d8e4f58323448a521afa1037f184
DTSTAMP:20260424T102411Z
SUMMARY:BT Services
DESCRIPTION:Jewish Federation of Greater Naples\nCommunity Calendar\nhttps:
 //jewishnaples.org/calendar/calendar1351\n\nBeth Tikvah
DTSTART;TZID=America/New_York:20150130T181500
DTEND;TZID=America/New_York:20150130T181500
END:VEVENT
END:VCALENDAR
