BEGIN:VCALENDAR
PRODID:-//eluceo/ical//2.0/EN
VERSION:2.0
CALSCALE:GREGORIAN
BEGIN:VEVENT
UID:313488a0902463fc02b276a13cd8935b
DTSTAMP:20260423T053327Z
SUMMARY:BT Services
DESCRIPTION:Jewish Federation of Greater Naples\nCommunity Calendar\nhttps:
 //jewishnaples.org/calendar/calendar1345\n\nBeth Tikvah
DTSTART;TZID=America/New_York:20141219T181500
DTEND;TZID=America/New_York:20141219T181500
END:VEVENT
END:VCALENDAR
