BEGIN:VCALENDAR
PRODID:-//eluceo/ical//2.0/EN
VERSION:2.0
CALSCALE:GREGORIAN
BEGIN:VEVENT
UID:eb54bef5daaaf304c2af48cdd061bee9
DTSTAMP:20260423T061535Z
SUMMARY:BT Services
DESCRIPTION:Jewish Federation of Greater Naples\nCommunity Calendar\nhttps:
 //jewishnaples.org/calendar/calendar1344\n\nBeth Tikvah
DTSTART;TZID=America/New_York:20141212T181500
DTEND;TZID=America/New_York:20141212T181500
END:VEVENT
END:VCALENDAR
