BEGIN:VCALENDAR
PRODID:-//eluceo/ical//2.0/EN
VERSION:2.0
CALSCALE:GREGORIAN
BEGIN:VEVENT
UID:e73136fa084f0eb8b58b337b8882baa6
DTSTAMP:20260419T225810Z
SUMMARY:BT Services
DESCRIPTION:Jewish Federation of Greater Naples\nCommunity Calendar\nhttps:
 //jewishnaples.org/calendar/calendar1340\n\nBeth Tikvah
DTSTART;TZID=America/New_York:20141114T181500
DTEND;TZID=America/New_York:20141114T181500
END:VEVENT
END:VCALENDAR
