BEGIN:VCALENDAR
PRODID:-//eluceo/ical//2.0/EN
VERSION:2.0
CALSCALE:GREGORIAN
BEGIN:VEVENT
UID:5acabb970d3101c7300e0a1be94b9d21
DTSTAMP:20260423T092232Z
SUMMARY:ORT Brd. Mtg.
DESCRIPTION:Jewish Federation of Greater Naples\nCommunity Calendar\nhttps:
 //jewishnaples.org/calendar/calendar134\n\n&nbsp
DTSTART;TZID=America/New_York:20150102T113000
DTEND;TZID=America/New_York:20150102T113000
END:VEVENT
END:VCALENDAR
