BEGIN:VCALENDAR
PRODID:-//eluceo/ical//2.0/EN
VERSION:2.0
CALSCALE:GREGORIAN
BEGIN:VEVENT
UID:d2d867b09777171aa7d8e86588701ade
DTSTAMP:20260421T231440Z
SUMMARY:BT Services
DESCRIPTION:Jewish Federation of Greater Naples\nCommunity Calendar\nhttps:
 //jewishnaples.org/calendar/calendar1338\n\nBeth Tikvah
DTSTART;TZID=America/New_York:20141031T181500
DTEND;TZID=America/New_York:20141031T181500
END:VEVENT
END:VCALENDAR
