BEGIN:VCALENDAR
PRODID:-//eluceo/ical//2.0/EN
VERSION:2.0
CALSCALE:GREGORIAN
BEGIN:VEVENT
UID:852dbe4ac98da3c01fcd2f6b5608a5ee
DTSTAMP:20260423T071803Z
SUMMARY:BT Services
DESCRIPTION:Jewish Federation of Greater Naples\nCommunity Calendar\nhttps:
 //jewishnaples.org/calendar/calendar1335\n\nBeth Tikvah
DTSTART;TZID=America/New_York:20141010T181500
DTEND;TZID=America/New_York:20141010T181500
END:VEVENT
END:VCALENDAR
