BEGIN:VCALENDAR
PRODID:-//eluceo/ical//2.0/EN
VERSION:2.0
CALSCALE:GREGORIAN
BEGIN:VEVENT
UID:dfb39c1da0e175c18d4ec0c1824b2f48
DTSTAMP:20260422T005046Z
SUMMARY:BT Services
DESCRIPTION:Jewish Federation of Greater Naples\nCommunity Calendar\nhttps:
 //jewishnaples.org/calendar/calendar1331\n\nBeth Tikvah
DTSTART;TZID=America/New_York:20140905T181500
DTEND;TZID=America/New_York:20140905T181500
END:VEVENT
END:VCALENDAR
