BEGIN:VCALENDAR
PRODID:-//eluceo/ical//2.0/EN
VERSION:2.0
CALSCALE:GREGORIAN
BEGIN:VEVENT
UID:c0c5416094ef9c2667ac75276bc8b263
DTSTAMP:20260423T210729Z
SUMMARY:ORT Brd. Mtg.
DESCRIPTION:Jewish Federation of Greater Naples\nCommunity Calendar\nhttps:
 //jewishnaples.org/calendar/calendar132\n\n&nbsp
DTSTART;TZID=America/New_York:20150306T113000
DTEND;TZID=America/New_York:20150306T113000
END:VEVENT
END:VCALENDAR
