BEGIN:VCALENDAR
PRODID:-//eluceo/ical//2.0/EN
VERSION:2.0
CALSCALE:GREGORIAN
BEGIN:VEVENT
UID:6ec0ae510fa23707466f2a321fb35b23
DTSTAMP:20260423T193523Z
SUMMARY:TS Services
DESCRIPTION:Jewish Federation of Greater Naples\nCommunity Calendar\nhttps:
 //jewishnaples.org/calendar/calendar1312\n\n&nbsp
DTSTART;TZID=America/New_York:20150411T100000
DTEND;TZID=America/New_York:20150411T100000
END:VEVENT
END:VCALENDAR
