BEGIN:VCALENDAR
PRODID:-//eluceo/ical//2.0/EN
VERSION:2.0
CALSCALE:GREGORIAN
BEGIN:VEVENT
UID:3f7f10dc49ca179e8b79760f5566bfc3
DTSTAMP:20260420T161933Z
SUMMARY:TS Services
DESCRIPTION:Jewish Federation of Greater Naples\nCommunity Calendar\nhttps:
 //jewishnaples.org/calendar/calendar1310\n\n&nbsp
DTSTART;TZID=America/New_York:20150328T100000
DTEND;TZID=America/New_York:20150328T100000
END:VEVENT
END:VCALENDAR
