BEGIN:VCALENDAR
PRODID:-//eluceo/ical//2.0/EN
VERSION:2.0
CALSCALE:GREGORIAN
BEGIN:VEVENT
UID:22f6099e49b66f8c2ca79c6d34013e95
DTSTAMP:20260422T041850Z
SUMMARY:TS Services
DESCRIPTION:Jewish Federation of Greater Naples\nCommunity Calendar\nhttps:
 //jewishnaples.org/calendar/calendar1303\n\n&nbsp
DTSTART;TZID=America/New_York:20150207T100000
DTEND;TZID=America/New_York:20150207T100000
END:VEVENT
END:VCALENDAR
