BEGIN:VCALENDAR
PRODID:-//eluceo/ical//2.0/EN
VERSION:2.0
CALSCALE:GREGORIAN
BEGIN:VEVENT
UID:90c44ba32c7dbbff9c81293964f5ef38
DTSTAMP:20260424T072031Z
SUMMARY:TS Services
DESCRIPTION:Jewish Federation of Greater Naples\nCommunity Calendar\nhttps:
 //jewishnaples.org/calendar/calendar1299\n\n&nbsp
DTSTART;TZID=America/New_York:20150110T100000
DTEND;TZID=America/New_York:20150110T100000
END:VEVENT
END:VCALENDAR
