BEGIN:VCALENDAR
PRODID:-//eluceo/ical//2.0/EN
VERSION:2.0
CALSCALE:GREGORIAN
BEGIN:VEVENT
UID:2849d0b8ca916afa34ae90adc2bd4c92
DTSTAMP:20260423T134916Z
SUMMARY:TS Services
DESCRIPTION:Jewish Federation of Greater Naples\nCommunity Calendar\nhttps:
 //jewishnaples.org/calendar/calendar1296\n\n&nbsp
DTSTART;TZID=America/New_York:20141220T100000
DTEND;TZID=America/New_York:20141220T100000
END:VEVENT
END:VCALENDAR
