BEGIN:VCALENDAR
PRODID:-//eluceo/ical//2.0/EN
VERSION:2.0
CALSCALE:GREGORIAN
BEGIN:VEVENT
UID:4ed7b99a2b9a548bd752ac80afa63eed
DTSTAMP:20260422T113802Z
SUMMARY:TS Services
DESCRIPTION:Jewish Federation of Greater Naples\nCommunity Calendar\nhttps:
 //jewishnaples.org/calendar/calendar1293\n\n&nbsp
DTSTART;TZID=America/New_York:20141129T100000
DTEND;TZID=America/New_York:20141129T100000
END:VEVENT
END:VCALENDAR
