BEGIN:VCALENDAR
PRODID:-//eluceo/ical//2.0/EN
VERSION:2.0
CALSCALE:GREGORIAN
BEGIN:VEVENT
UID:993fdc566f5a4dafaa2ba4661034721a
DTSTAMP:20260423T220614Z
SUMMARY:TS Services
DESCRIPTION:Jewish Federation of Greater Naples\nCommunity Calendar\nhttps:
 //jewishnaples.org/calendar/calendar1292\n\n&nbsp
DTSTART;TZID=America/New_York:20141122T100000
DTEND;TZID=America/New_York:20141122T100000
END:VEVENT
END:VCALENDAR
