BEGIN:VCALENDAR
PRODID:-//eluceo/ical//2.0/EN
VERSION:2.0
CALSCALE:GREGORIAN
BEGIN:VEVENT
UID:c6f45ef79003930bc197c2ca44926359
DTSTAMP:20260422T112626Z
SUMMARY:ORT Donor Brunch
DESCRIPTION:Jewish Federation of Greater Naples\nCommunity Calendar\nhttps:
 //jewishnaples.org/calendar/calendar129\n\nGoode ORT Donor Appreciation Br
 unch
DTSTART;TZID=America/New_York:20141116T123000
DTEND;TZID=America/New_York:20141116T123000
END:VEVENT
END:VCALENDAR
