BEGIN:VCALENDAR
PRODID:-//eluceo/ical//2.0/EN
VERSION:2.0
CALSCALE:GREGORIAN
BEGIN:VEVENT
UID:f02d5b204034cdf4d51a4fc20a875d45
DTSTAMP:20260423T220353Z
SUMMARY:TS Services
DESCRIPTION:Jewish Federation of Greater Naples\nCommunity Calendar\nhttps:
 //jewishnaples.org/calendar/calendar1287\n\n&nbsp
DTSTART;TZID=America/New_York:20141018T100000
DTEND;TZID=America/New_York:20141018T100000
END:VEVENT
END:VCALENDAR
