BEGIN:VCALENDAR
PRODID:-//eluceo/ical//2.0/EN
VERSION:2.0
CALSCALE:GREGORIAN
BEGIN:VEVENT
UID:345491846f8bc0dfaa2345abe1767678
DTSTAMP:20260423T044140Z
SUMMARY:TS Services
DESCRIPTION:Jewish Federation of Greater Naples\nCommunity Calendar\nhttps:
 //jewishnaples.org/calendar/calendar1285\n\n&nbsp
DTSTART;TZID=America/New_York:20141004T100000
DTEND;TZID=America/New_York:20141004T100000
END:VEVENT
END:VCALENDAR
