BEGIN:VCALENDAR
PRODID:-//eluceo/ical//2.0/EN
VERSION:2.0
CALSCALE:GREGORIAN
BEGIN:VEVENT
UID:e502454979fac9b6642867785a6090bc
DTSTAMP:20260420T150156Z
SUMMARY:TS Kol Nidre
DESCRIPTION:Jewish Federation of Greater Naples\nCommunity Calendar\nhttps:
 //jewishnaples.org/calendar/calendar127\n\n&nbsp
DTSTART;TZID=America/New_York:20141003T190000
DTEND;TZID=America/New_York:20141003T190000
END:VEVENT
END:VCALENDAR
