BEGIN:VCALENDAR
PRODID:-//eluceo/ical//2.0/EN
VERSION:2.0
CALSCALE:GREGORIAN
BEGIN:VEVENT
UID:184b3322b433b38130f14b5c995750e6
DTSTAMP:20260423T235423Z
SUMMARY:JFCC Board Mtg
DESCRIPTION:Jewish Federation of Greater Naples\nCommunity Calendar\nhttps:
 //jewishnaples.org/calendar/calendar1261\n\n&nbsp
DTSTART;TZID=America/New_York:20150210T193000
DTEND;TZID=America/New_York:20150210T193000
END:VEVENT
END:VCALENDAR
