BEGIN:VCALENDAR
PRODID:-//eluceo/ical//2.0/EN
VERSION:2.0
CALSCALE:GREGORIAN
BEGIN:VEVENT
UID:6559c8bbd79376252bd8a5c30386c99f
DTSTAMP:20260424T095605Z
SUMMARY:JFCC Board Mtg
DESCRIPTION:Jewish Federation of Greater Naples\nCommunity Calendar\nhttps:
 //jewishnaples.org/calendar/calendar1256\n\n&nbsp
DTSTART;TZID=America/New_York:20140909T193000
DTEND;TZID=America/New_York:20140909T193000
END:VEVENT
END:VCALENDAR
