BEGIN:VCALENDAR
PRODID:-//eluceo/ical//2.0/EN
VERSION:2.0
CALSCALE:GREGORIAN
BEGIN:VEVENT
UID:d0106f4729a3a52d3dada276a2d85e0e
DTSTAMP:20260423T123930Z
SUMMARY:JFCC Board Mtg
DESCRIPTION:Jewish Federation of Greater Naples\nCommunity Calendar\nhttps:
 //jewishnaples.org/calendar/calendar1255\n\n&nbsp
DTSTART;TZID=America/New_York:20140812T193000
DTEND;TZID=America/New_York:20140812T193000
END:VEVENT
END:VCALENDAR
