BEGIN:VCALENDAR
PRODID:-//eluceo/ical//2.0/EN
VERSION:2.0
CALSCALE:GREGORIAN
BEGIN:VEVENT
UID:6dbe19756155aeb9d39c4f670d68bde9
DTSTAMP:20260423T192807Z
SUMMARY:CHA Services
DESCRIPTION:Jewish Federation of Greater Naples\nCommunity Calendar\nhttps:
 //jewishnaples.org/calendar/calendar1243\n\n&nbsp
DTSTART;TZID=America/New_York:20150221T100000
DTEND;TZID=America/New_York:20150221T100000
END:VEVENT
END:VCALENDAR
