BEGIN:VCALENDAR
PRODID:-//eluceo/ical//2.0/EN
VERSION:2.0
CALSCALE:GREGORIAN
BEGIN:VEVENT
UID:a483a41e626d69f703b5a6e756309ca9
DTSTAMP:20260423T114832Z
SUMMARY:CHA Services
DESCRIPTION:Jewish Federation of Greater Naples\nCommunity Calendar\nhttps:
 //jewishnaples.org/calendar/calendar1242\n\n&nbsp
DTSTART;TZID=America/New_York:20150214T100000
DTEND;TZID=America/New_York:20150214T100000
END:VEVENT
END:VCALENDAR
