BEGIN:VCALENDAR
PRODID:-//eluceo/ical//2.0/EN
VERSION:2.0
CALSCALE:GREGORIAN
BEGIN:VEVENT
UID:867017f66c43529aa3de284afd027098
DTSTAMP:20260421T231410Z
SUMMARY:CHA Services
DESCRIPTION:Jewish Federation of Greater Naples\nCommunity Calendar\nhttps:
 //jewishnaples.org/calendar/calendar1240\n\n&nbsp
DTSTART;TZID=America/New_York:20150131T100000
DTEND;TZID=America/New_York:20150131T100000
END:VEVENT
END:VCALENDAR
