BEGIN:VCALENDAR
PRODID:-//eluceo/ical//2.0/EN
VERSION:2.0
CALSCALE:GREGORIAN
BEGIN:VEVENT
UID:8f520ed3f369cb3871f7333f454a8801
DTSTAMP:20260423T103359Z
SUMMARY:CHA Services
DESCRIPTION:Jewish Federation of Greater Naples\nCommunity Calendar\nhttps:
 //jewishnaples.org/calendar/calendar1227\n\n&nbsp
DTSTART;TZID=America/New_York:20141101T100000
DTEND;TZID=America/New_York:20141101T100000
END:VEVENT
END:VCALENDAR
