BEGIN:VCALENDAR
PRODID:-//eluceo/ical//2.0/EN
VERSION:2.0
CALSCALE:GREGORIAN
BEGIN:VEVENT
UID:f77ddcb5bda5dd3e9b78cc67ddbf18a6
DTSTAMP:20260424T050322Z
SUMMARY:CHA Services
DESCRIPTION:Jewish Federation of Greater Naples\nCommunity Calendar\nhttps:
 //jewishnaples.org/calendar/calendar1216\n\n&nbsp
DTSTART;TZID=America/New_York:20140816T100000
DTEND;TZID=America/New_York:20140816T100000
END:VEVENT
END:VCALENDAR
