BEGIN:VCALENDAR
PRODID:-//eluceo/ical//2.0/EN
VERSION:2.0
CALSCALE:GREGORIAN
BEGIN:VEVENT
UID:3bb558222e6bf8a61aa69b0c3165c67c
DTSTAMP:20260422T215222Z
SUMMARY:CHA Services
DESCRIPTION:Jewish Federation of Greater Naples\nCommunity Calendar\nhttps:
 //jewishnaples.org/calendar/calendar1213\n\n&nbsp
DTSTART;TZID=America/New_York:20140726T100000
DTEND;TZID=America/New_York:20140726T100000
END:VEVENT
END:VCALENDAR
