BEGIN:VCALENDAR
PRODID:-//eluceo/ical//2.0/EN
VERSION:2.0
CALSCALE:GREGORIAN
BEGIN:VEVENT
UID:3fcbfce8055f609d6c9b95c8adb0f189
DTSTAMP:20260420T154334Z
SUMMARY:JCMI Chanukah Dinner
DESCRIPTION:Jewish Federation of Greater Naples\nCommunity Calendar\nhttps:
 //jewishnaples.org/calendar/calendar120\n\n&nbsp
DTSTART;TZID=America/New_York:20141219T183000
DTEND;TZID=America/New_York:20141219T183000
END:VEVENT
END:VCALENDAR
